BEGIN:VCALENDAR
VERSION:2.0
PRODID:-//Squarespace Inc/Squarespace 6//v6//EN
BEGIN:VEVENT
UID:5b4ff1961ae6cfa99e5a0bc7@squarespace.com
DTSTAMP:20180824T005018Z
DTSTART:20180926T090000Z
DTEND:20180926T110000Z
SUMMARY: Movie: Guernsey Literary & Potato Peel Pie Society 
END:VEVENT
END:VCALENDAR
