BEGIN:VCALENDAR
VERSION:2.0
PRODID:-//Squarespace Inc/Squarespace 6//v6//EN
BEGIN:VEVENT
UID:5b4ff1c61ae6cfa99e5a12c7@squarespace.com
DTSTAMP:20180824T005109Z
DTSTART:20180930T070000Z
DTEND:20180930T090000Z
SUMMARY:Movie: Guernsey Literary & Potato Peel Pie Society 
END:VEVENT
END:VCALENDAR
