BEGIN:VCALENDAR
VERSION:2.0
PRODID:-//Squarespace Inc/Squarespace 6//v6//EN
BEGIN:VEVENT
UID:5b722815aa4a9951f84014a4@squarespace.com
DTSTAMP:20180822T013715Z
DTSTART:20180922T040000Z
DTEND:20180922T060000Z
SUMMARY:Ripple Effect Presentation
END:VEVENT
END:VCALENDAR
