BEGIN:VCALENDAR
VERSION:2.0
PRODID:-//Squarespace Inc/Squarespace 6//v6//EN
BEGIN:VEVENT
UID:5a30c952c83025dde273376d@squarespace.com
DTSTAMP:20180814T010036Z
DTSTART:20180920T233000Z
DTEND:20180921T043000Z
SUMMARY:Ripple Effect Series 3
END:VEVENT
END:VCALENDAR
