BEGIN:VCALENDAR
VERSION:2.0
PRODID:-//Squarespace Inc/Squarespace 6//v6//EN
BEGIN:VEVENT
UID:5a30c91fe2c48344429318cc@squarespace.com
DTSTAMP:20180405T023754Z
DTSTART:20180919T233000Z
DTEND:20180920T043000Z
SUMMARY:Ripple Effect Series 3
END:VEVENT
END:VCALENDAR
