BEGIN:VCALENDAR
VERSION:2.0
PRODID:-//Squarespace Inc/Squarespace 6//v6//EN
BEGIN:VEVENT
UID:5b4ff0398a922dd648ce8a82@squarespace.com
DTSTAMP:20180824T004757Z
DTSTART:20180912T003000Z
DTEND:20180912T023000Z
SUMMARY:Movie: Sweet Country
END:VEVENT
END:VCALENDAR
