BEGIN:VCALENDAR
VERSION:2.0
PRODID:-//Squarespace Inc/Squarespace 6//v6//EN
BEGIN:VEVENT
UID:5b4fefa91ae6cfa99e59c113@squarespace.com
DTSTAMP:20180824T004850Z
DTSTART:20180916T070000Z
DTEND:20180916T090000Z
SUMMARY: Movie: Sweet Country
END:VEVENT
END:VCALENDAR
