BEGIN:VCALENDAR
VERSION:2.0
PRODID:-//Squarespace Inc/Squarespace 6//v6//EN
BEGIN:VEVENT
UID:5b4feba5575d1fc08ba489a6@squarespace.com
DTSTAMP:20180719T015536Z
DTSTART:20180819T070000Z
DTEND:20180819T090000Z
SUMMARY:Movie: Human Flow 
END:VEVENT
END:VCALENDAR
