BEGIN:VCALENDAR
VERSION:2.0
PRODID:-//Squarespace Inc/Squarespace 6//v6//EN
BEGIN:VEVENT
UID:5b4fed46758d46506ec8c9cd@squarespace.com
DTSTAMP:20180719T015510Z
DTSTART:20180815T003000Z
DTEND:20180815T023000Z
SUMMARY:Movie: Human Flow 
END:VEVENT
END:VCALENDAR
