BEGIN:VCALENDAR
VERSION:2.0
PRODID:-//Squarespace Inc/Squarespace 6//v6//EN
BEGIN:VEVENT
UID:5b4fefe4562fa778928a6ef3@squarespace.com
DTSTAMP:20180719T015713Z
DTSTART:20180815T090000Z
DTEND:20180815T110000Z
SUMMARY: Movie: Human Flow 
END:VEVENT
END:VCALENDAR
