BEGIN:VCALENDAR
VERSION:2.0
PRODID:-//Squarespace Inc/Squarespace 6//v6//EN
BEGIN:VEVENT
UID:5b62573c1ae6cf5b124cc16e@squarespace.com
DTSTAMP:20180803T011217Z
DTSTART:20180831T070000Z
DTEND:20180831T090000Z
SUMMARY:TACC OPEN: Beer\, Band & Bacon
END:VEVENT
END:VCALENDAR
