BEGIN:VCALENDAR
VERSION:2.0
PRODID:-//Squarespace Inc/Squarespace 6//v6//EN
BEGIN:VEVENT
UID:5b469ed1352f53e4c8791d18@squarespace.com
DTSTAMP:20180712T002328Z
DTSTART:20180803T093000Z
DTEND:20180803T113000Z
SUMMARY:Jan Preston's Wonderful Winnie
END:VEVENT
END:VCALENDAR
