BEGIN:VCALENDAR
VERSION:2.0
PRODID:-//Squarespace Inc/Squarespace 6//v6//EN
BEGIN:VEVENT
UID:5aea5de1f950b762515e2af7@squarespace.com
DTSTAMP:20180503T010046Z
DTSTART:20180829T003000Z
DTEND:20180829T023000Z
SUMMARY:Movie: Finding Your Feet
END:VEVENT
END:VCALENDAR
