BEGIN:VCALENDAR
VERSION:2.0
PRODID:-//Squarespace Inc/Squarespace 6//v6//EN
BEGIN:VEVENT
UID:5aea5fe0575d1f6c1189ed42@squarespace.com
DTSTAMP:20180503T010348Z
DTSTART:20180829T090000Z
DTEND:20180829T110000Z
SUMMARY:Movie: Finding Your Feet
END:VEVENT
END:VCALENDAR
