BEGIN:VCALENDAR
VERSION:2.0
PRODID:-//Squarespace Inc/Squarespace 6//v6//EN
BEGIN:VEVENT
UID:5aea5f64f950b762515e64b5@squarespace.com
DTSTAMP:20180503T010247Z
DTSTART:20180902T070000Z
DTEND:20180902T090000Z
SUMMARY:Movie: Finding Your Feet
END:VEVENT
END:VCALENDAR
