BEGIN:VCALENDAR
VERSION:2.0
PRODID:-//Squarespace Inc/Squarespace 6//v6//EN
BEGIN:VEVENT
UID:5ac57185575d1ffe2199a937@squarespace.com
DTSTAMP:20180405T004813Z
DTSTART:20180811T080000Z
DTEND:20180811T120000Z
SUMMARY:Make It Local - A Shared Table Dinner - Winter
END:VEVENT
END:VCALENDAR
