BEGIN:VCALENDAR
VERSION:2.0
PRODID:-//Squarespace Inc/Squarespace 6//v6//EN
BEGIN:VEVENT
UID:5b342168352f5303fcda711c@squarespace.com
DTSTAMP:20180628T000830Z
DTSTART:20180705T000000Z
DTEND:20180705T050000Z
SUMMARY:Dabble Day - Stencil Art 
END:VEVENT
END:VCALENDAR
