BEGIN:VCALENDAR
VERSION:2.0
PRODID:-//Squarespace Inc/Squarespace 6//v6//EN
BEGIN:VEVENT
UID:5b21cafa575d1f9090d12130@squarespace.com
DTSTAMP:20180702T234242Z
DTSTART:20180704T000000Z
DTEND:20180704T020000Z
SUMMARY:FREE Open Studio - 'Return to the River'
END:VEVENT
END:VCALENDAR
