BEGIN:VCALENDAR
VERSION:2.0
PRODID:-//Squarespace Inc/Squarespace 6//v6//EN
BEGIN:VEVENT
UID:5b342efe575d1fa05d13dcde@squarespace.com
DTSTAMP:20180628T005106Z
DTSTART:20180702T233000Z
DTEND:20180703T053000Z
SUMMARY:Coder Academy - Maker Space Teacher PD (Yr K - 6)
END:VEVENT
END:VCALENDAR
