BEGIN:VCALENDAR
VERSION:2.0
PRODID:-//Squarespace Inc/Squarespace 6//v6//EN
BEGIN:VEVENT
UID:5b3430aa8a922d73de42faac@squarespace.com
DTSTAMP:20180628T005017Z
DTSTART:20180703T233000Z
DTEND:20180704T053000Z
SUMMARY:Coder Academy - Maker Space Teacher PD  (Yr 7 -10)
END:VEVENT
END:VCALENDAR
