BEGIN:VCALENDAR
VERSION:2.0
PRODID:-//Squarespace Inc/Squarespace 6//v6//EN
BEGIN:VEVENT
UID:5aea5a5e575d1f6c1189188b@squarespace.com
DTSTAMP:20180503T004712Z
DTSTART:20180725T003000Z
DTEND:20180725T023000Z
SUMMARY:Movie: Molly's Game
END:VEVENT
END:VCALENDAR
