BEGIN:VCALENDAR
VERSION:2.0
PRODID:-//Squarespace Inc/Squarespace 6//v6//EN
BEGIN:VEVENT
UID:5aea5c47562fa782f1b11370@squarespace.com
DTSTAMP:20180503T005029Z
DTSTART:20180729T070000Z
DTEND:20180729T090000Z
SUMMARY:Movie: Molly's Game
END:VEVENT
END:VCALENDAR
