BEGIN:VCALENDAR
VERSION:2.0
PRODID:-//Squarespace Inc/Squarespace 6//v6//EN
BEGIN:VEVENT
UID:5aea5d1b562fa782f1b1361e@squarespace.com
DTSTAMP:20180719T022004Z
DTSTART:20180725T090000Z
DTEND:20180725T110000Z
SUMMARY:Movie: Molly's Game
END:VEVENT
END:VCALENDAR
