BEGIN:VCALENDAR
VERSION:2.0
PRODID:-//Squarespace Inc/Squarespace 6//v6//EN
BEGIN:VEVENT
UID:5b4ff6736d2a73516216cfc0@squarespace.com
DTSTAMP:20180824T010119Z
DTSTART:20181106T233000Z
DTEND:20181107T013000Z
SUMMARY:Movie: Lady Bird 
END:VEVENT
END:VCALENDAR
