BEGIN:VCALENDAR
VERSION:2.0
PRODID:-//Squarespace Inc/Squarespace 6//v6//EN
BEGIN:VEVENT
UID:5b4ff88370a6ad94de3a11d5@squarespace.com
DTSTAMP:20180824T010210Z
DTSTART:20181107T080000Z
DTEND:20181107T100000Z
SUMMARY:Movie: Lady Bird 
END:VEVENT
END:VCALENDAR
