BEGIN:VCALENDAR
VERSION:2.0
PRODID:-//Squarespace Inc/Squarespace 6//v6//EN
BEGIN:VEVENT
UID:5b4ff8c12b6a2853e2c18d1a@squarespace.com
DTSTAMP:20180824T010240Z
DTSTART:20181111T060000Z
DTEND:20181111T080000Z
SUMMARY:Movie: Lady Bird 
END:VEVENT
END:VCALENDAR
