BEGIN:VCALENDAR
VERSION:2.0
PRODID:-//Squarespace Inc/Squarespace 6//v6//EN
BEGIN:VEVENT
UID:5b4ff93003ce6465a2fd8ecf@squarespace.com
DTSTAMP:20181115T005001Z
DTSTART:20181121T080000Z
DTEND:20181121T100000Z
SUMMARY:Movie: On Chesil Beach
END:VEVENT
END:VCALENDAR
