BEGIN:VCALENDAR
VERSION:2.0
PRODID:-//Squarespace Inc/Squarespace 6//v6//EN
BEGIN:VEVENT
UID:5b4ffad488251b6ef152d06d@squarespace.com
DTSTAMP:20181115T005016Z
DTSTART:20181125T060000Z
DTEND:20181125T080000Z
SUMMARY:Movie: On Chesil Beach
END:VEVENT
END:VCALENDAR
