BEGIN:VCALENDAR
VERSION:2.0
PRODID:-//Squarespace Inc/Squarespace 6//v6//EN
BEGIN:VEVENT
UID:5b34313e88251b230bab804d@squarespace.com
DTSTAMP:20180628T005532Z
DTSTART:20180713T000000Z
DTEND:20180713T050000Z
SUMMARY:Glasslarks Friendship Group 
END:VEVENT
END:VCALENDAR
