BEGIN:VCALENDAR
VERSION:2.0
PRODID:-//Squarespace Inc/Squarespace 6//v6//EN
BEGIN:VEVENT
UID:5b469b80758d46a136f66b98@squarespace.com
DTSTAMP:20180712T003508Z
DTSTART:20180727T080000Z
DTEND:20180727T090000Z
SUMMARY:Florabundance Fibres Steel & Stone Exhibition 
END:VEVENT
END:VCALENDAR
