BEGIN:VCALENDAR
VERSION:2.0
PRODID:-//Squarespace Inc/Squarespace 6//v6//EN
BEGIN:VEVENT
UID:5b469d26562fa7d57a9ab950@squarespace.com
DTSTAMP:20180712T003545Z
DTSTART:20180730T000000Z
DTEND:20180730T040000Z
SUMMARY:Florabundance Fibres Steel & Stone Exhibition 
END:VEVENT
END:VCALENDAR
