BEGIN:VCALENDAR
VERSION:2.0
PRODID:-//Squarespace Inc/Squarespace 6//v6//EN
BEGIN:VEVENT
UID:5b469d9903ce64cc88c9a717@squarespace.com
DTSTAMP:20180712T003535Z
DTSTART:20180729T000000Z
DTEND:20180729T040000Z
SUMMARY:Florabundance Fibres Steel & Stone Exhibition 
END:VEVENT
END:VCALENDAR
