BEGIN:VCALENDAR
VERSION:2.0
PRODID:-//Squarespace Inc/Squarespace 6//v6//EN
BEGIN:VEVENT
UID:5b469db71ae6cff6969d8351@squarespace.com
DTSTAMP:20180712T003618Z
DTSTART:20180802T000000Z
DTEND:20180802T040000Z
SUMMARY:Florabundance Fibres Steel & Stone Exhibition 
END:VEVENT
END:VCALENDAR
