BEGIN:VCALENDAR
VERSION:2.0
PRODID:-//Squarespace Inc/Squarespace 6//v6//EN
BEGIN:VEVENT
UID:5b469de0352f53e4c878f85c@squarespace.com
DTSTAMP:20180712T003605Z
DTSTART:20180801T000000Z
DTEND:20180801T040000Z
SUMMARY:Florabundance Fibres Steel & Stone Exhibition 
END:VEVENT
END:VCALENDAR
