BEGIN:VCALENDAR
VERSION:2.0
PRODID:-//Squarespace Inc/Squarespace 6//v6//EN
BEGIN:VEVENT
UID:5b469e2a575d1f2458655b50@squarespace.com
DTSTAMP:20180712T001851Z
DTSTART:20180804T000000Z
DTEND:20180804T040000Z
SUMMARY:Florabundance Fibres Steel & Stone Exhibition 
END:VEVENT
END:VCALENDAR
