BEGIN:VCALENDAR
VERSION:2.0
PRODID:-//Squarespace Inc/Squarespace 6//v6//EN
BEGIN:VEVENT
UID:5b469e7a2b6a286a6333119e@squarespace.com
DTSTAMP:20180712T001936Z
DTSTART:20180805T000000Z
DTEND:20180805T040000Z
SUMMARY:Florabundance Fibres Steel & Stone Exhibition 
END:VEVENT
END:VCALENDAR
