BEGIN:VCALENDAR
VERSION:2.0
PRODID:-//Squarespace Inc/Squarespace 6//v6//EN
BEGIN:VEVENT
UID:5aea575e575d1f6c1188a1cd@squarespace.com
DTSTAMP:20180503T003617Z
DTSTART:20180717T003000Z
DTEND:20180717T023000Z
SUMMARY:Kids Movie: Ferdinand
END:VEVENT
END:VCALENDAR
