BEGIN:VCALENDAR
VERSION:2.0
PRODID:-//Squarespace Inc/Squarespace 6//v6//EN
BEGIN:VEVENT
UID:5aea5940562fa782f1b09ef4@squarespace.com
DTSTAMP:20180503T003849Z
DTSTART:20180713T040000Z
DTEND:20180713T060000Z
SUMMARY:Kids Movie: Ferdinand
END:VEVENT
END:VCALENDAR
