BEGIN:VCALENDAR
VERSION:2.0
PRODID:-//Squarespace Inc/Squarespace 6//v6//EN
BEGIN:VEVENT
UID:5aea5993758d46816ce5abd2@squarespace.com
DTSTAMP:20180503T003658Z
DTSTART:20180711T003000Z
DTEND:20180711T023000Z
SUMMARY:Kids Movie: Ferdinand
END:VEVENT
END:VCALENDAR
