BEGIN:VCALENDAR
VERSION:2.0
PRODID:-//Squarespace Inc/Squarespace 6//v6//EN
BEGIN:VEVENT
UID:5b060779575d1f265828e3e1@squarespace.com
DTSTAMP:20180524T003934Z
DTSTART:20180607T093000Z
DTEND:20180607T103000Z
SUMMARY:Noor - Presented by Coota Bollywood All Stars
END:VEVENT
END:VCALENDAR
