BEGIN:VCALENDAR
VERSION:2.0
PRODID:-//Squarespace Inc/Squarespace 6//v6//EN
BEGIN:VEVENT
UID:5b060928f950b7cb32bfe20a@squarespace.com
DTSTAMP:20180524T004031Z
DTSTART:20180609T093000Z
DTEND:20180609T103000Z
SUMMARY: Noor - Presented by Coota Bollywood All Stars
END:VEVENT
END:VCALENDAR
