BEGIN:VCALENDAR
VERSION:2.0
PRODID:-//Squarespace Inc/Squarespace 6//v6//EN
BEGIN:VEVENT
UID:5b06097c8a922d1402b7a0b5@squarespace.com
DTSTAMP:20180524T004046Z
DTSTART:20180608T093000Z
DTEND:20180608T103000Z
SUMMARY:Noor - Presented by Coota Bollywood All Stars
END:VEVENT
END:VCALENDAR
