BEGIN:VCALENDAR
VERSION:2.0
PRODID:-//Squarespace Inc/Squarespace 6//v6//EN
BEGIN:VEVENT
UID:5aea56d0f950b762515d1981@squarespace.com
DTSTAMP:20180503T002638Z
DTSTART:20180627T090000Z
DTEND:20180627T110000Z
SUMMARY:Movie: Darkest Hour 
END:VEVENT
END:VCALENDAR
