BEGIN:VCALENDAR
VERSION:2.0
PRODID:-//Squarespace Inc/Squarespace 6//v6//EN
BEGIN:VEVENT
UID:5b062adb70a6ad2e493bafde@squarespace.com
DTSTAMP:20180524T030315Z
DTSTART:20180623T000000Z
DTEND:20180623T050000Z
SUMMARY:Natural Dyeing - Eco Dyeing 
END:VEVENT
END:VCALENDAR
