BEGIN:VCALENDAR
VERSION:2.0
PRODID:-//Squarespace Inc/Squarespace 6//v6//EN
BEGIN:VEVENT
UID:5b18899c03ce64e055d2b9f1@squarespace.com
DTSTAMP:20180607T013131Z
DTSTART:20180622T090000Z
DTEND:20180622T100000Z
SUMMARY:Miss Em's Drama School Presents - 'Dramaroonies'
END:VEVENT
END:VCALENDAR
