BEGIN:VCALENDAR
VERSION:2.0
PRODID:-//Squarespace Inc/Squarespace 6//v6//EN
BEGIN:VEVENT
UID:5b188b0c2b6a28f91fa2ed24@squarespace.com
DTSTAMP:20180607T013420Z
DTSTART:20180623T090000Z
DTEND:20180623T100000Z
SUMMARY:Miss Em's Drama School Presents - 'Dramaroonies'
END:VEVENT
END:VCALENDAR
