BEGIN:VCALENDAR
VERSION:2.0
PRODID:-//Squarespace Inc/Squarespace 6//v6//EN
BEGIN:VEVENT
UID:5b188bd5f950b7b5f26b6576@squarespace.com
DTSTAMP:20180607T013640Z
DTSTART:20180623T030000Z
DTEND:20180623T040000Z
SUMMARY:Miss Em's Drama School Presents - 'Dramaroonies'
END:VEVENT
END:VCALENDAR
