BEGIN:VCALENDAR
VERSION:2.0
PRODID:-//Squarespace Inc/Squarespace 6//v6//EN
BEGIN:VEVENT
UID:5aea54618a922d7249ca742a@squarespace.com
DTSTAMP:20180503T001716Z
DTSTART:20180613T090000Z
DTEND:20180613T110000Z
SUMMARY:Movie: Three Billboards outside Ebbing Missouri
END:VEVENT
END:VCALENDAR
