BEGIN:VCALENDAR
VERSION:2.0
PRODID:-//Squarespace Inc/Squarespace 6//v6//EN
BEGIN:VEVENT
UID:5a975f6d8165f5deb764387c@squarespace.com
DTSTAMP:20180301T020440Z
DTSTART:20180523T090000Z
DTEND:20180523T110000Z
SUMMARY:Movie: Gods Own Country
END:VEVENT
END:VCALENDAR
