BEGIN:VCALENDAR
VERSION:2.0
PRODID:-//Squarespace Inc/Squarespace 6//v6//EN
BEGIN:VEVENT
UID:5ac56c2b352f53d54e06aa62@squarespace.com
DTSTAMP:20180405T004406Z
DTSTART:20180519T080000Z
DTEND:20180519T120000Z
SUMMARY:Make It Local A Shared Table Dinner Autumn
END:VEVENT
END:VCALENDAR
